
BEGIN:VCALENDAR
VERSION:2.0
PRODID:-//MarkedsPartner AS//Umbraco CMS//NO
TIMEZONE-ID:Europe/Oslo
X-WR-TIMEZONE:Europe/Oslo


BEGIN:VEVENT
UID:f2b70264a67a4b208ce0eada9969a9e5
URL:https://umbraco.naeringsforeningen.no/moeter/arkiv/eksportkurs-i-stavanger/
ORGANIZER;CN=Ola Normann:MAILTO:ola.normann@markedspartner.no
DTSTAMP:20221101T080000Z
DTSTART:20221101T080000Z
DTEND:20221101T140000Z
LAST-MODIFIED:20221102T074822Z
SUMMARY:EKSPORTKURS I STAVANGER – har du meldt deg på?
DESCRIPTION:Eksport byr på mange store muligheter, men risikoen for at ting går galt er også større når varer krysser grenser. Kjennskap til kjøreregler og hvilke verktøy som finnes, 
kan hjelpe deg å håndtere risiko, redusere kostnader og sikre dine rettigheter.
X-ALT-DESC:Eksport byr p&#229; mange store muligheter, men risikoen for at ting g&#229;r galt er ogs&#229; st&#248;rre n&#229;r varer krysser grenser. Kjennskap til kj&#248;reregler og hvilke verkt&#248;y som finnes, 
kan hjelpe deg &#229; h&#229;ndtere risiko, redusere kostnader og sikre dine rettigheter.
LOCATION:Rosenkildehuset
END:VEVENT


END:VCALENDAR



