
BEGIN:VCALENDAR
VERSION:2.0
PRODID:-//MarkedsPartner AS//Umbraco CMS//NO
TIMEZONE-ID:Europe/Oslo
X-WR-TIMEZONE:Europe/Oslo


BEGIN:VEVENT
UID:f2e74f70e27e476a9087089a101cb6c4
URL:https://umbraco.naeringsforeningen.no/moeter/arkiv/eksportdagen_mars2023/
ORGANIZER;CN=Ola Normann:MAILTO:ola.normann@markedspartner.no
DTSTAMP:20230321T073000Z
DTSTART:20230321T073000Z
DTEND:20230321T113000Z
LAST-MODIFIED:20230321T140243Z
SUMMARY:Fagdag EKSPORT
DESCRIPTION:Fagdag eksport tar opp de avgjørende suksessfaktorene for å kunne drive lønnsom eksport. Markedene - verdikjedene - modeller for partnerskap og forhandlere,  jus og kontrakter og noen avgjørende fun facts for kulturforståelse.
X-ALT-DESC:Fagdag eksport tar opp de avgj&#248;rende suksessfaktorene for &#229; kunne drive l&#248;nnsom eksport. Markedene - verdikjedene - modeller for partnerskap og forhandlere,  jus og kontrakter og noen avgj&#248;rende fun facts for kulturforst&#229;else.
LOCATION:Rosenkildehuset, Strandkaien 6, 4005 Stavanger
END:VEVENT


END:VCALENDAR



