
BEGIN:VCALENDAR
VERSION:2.0
PRODID:-//MarkedsPartner AS//Umbraco CMS//NO
TIMEZONE-ID:Europe/Oslo
X-WR-TIMEZONE:Europe/Oslo


BEGIN:VEVENT
UID:4b5e3096568240c280dd2a99160823a1
URL:https://umbraco.naeringsforeningen.no/moeter/arkiv/eksportdagen-2024/
ORGANIZER;CN=Ola Normann:MAILTO:ola.normann@markedspartner.no
DTSTAMP:20240925T063000Z
DTSTART:20240925T063000Z
DTEND:20240925T091500Z
LAST-MODIFIED:20240925T114409Z
SUMMARY:FAGDAG EKSPORT: Gjør suksess med eksport av varer og tjenester
DESCRIPTION:Fagdagen dekker nøkkelfaktorer for lønnsom eksport, inkludert markedsinnsikt, verdikjeder, partnerskapsmodeller, forhandlerstrategier, samt juridiske aspekter og kontrakter.
X-ALT-DESC:Fagdagen dekker n&#248;kkelfaktorer for l&#248;nnsom eksport, inkludert markedsinnsikt, verdikjeder, partnerskapsmodeller, forhandlerstrategier, samt juridiske aspekter og kontrakter.
LOCATION:Thommessen, Knut Holms gate 8, 12. etasje 
END:VEVENT


END:VCALENDAR



