
BEGIN:VCALENDAR
VERSION:2.0
PRODID:-//MarkedsPartner AS//Umbraco CMS//NO
TIMEZONE-ID:Europe/Oslo
X-WR-TIMEZONE:Europe/Oslo


BEGIN:VEVENT
UID:a5bd7dfa67274be5bb9709b782bd1fdd
URL:https://umbraco.naeringsforeningen.no/moeter/arkiv/eksport_181120/
ORGANIZER;CN=Ola Normann:MAILTO:ola.normann@markedspartner.no
DTSTAMP:20201118T100000Z
DTSTART:20201118T100000Z
DTEND:20201118T121500Z
LAST-MODIFIED:20221031T115258Z
SUMMARY:India as a fast growing export market
DESCRIPTION:India is the second fastest growing economy in the world. Economic foundations stand strong, and India continues to see an increased interest internationally.
X-ALT-DESC:India is the second fastest growing economy in the world. Economic foundations stand strong, and India continues to see an increased interest internationally.
LOCATION:Rosenkildehuset
END:VEVENT


END:VCALENDAR



