
BEGIN:VCALENDAR
VERSION:2.0
PRODID:-//MarkedsPartner AS//Umbraco CMS//NO
TIMEZONE-ID:Europe/Oslo
X-WR-TIMEZONE:Europe/Oslo


BEGIN:VEVENT
UID:0de18987c8cd43c48e118b6540b110ff
URL:https://umbraco.naeringsforeningen.no/moeter/arkiv/eksport-in-120221/
ORGANIZER;CN=Ola Normann:MAILTO:ola.normann@markedspartner.no
DTSTAMP:20210212T100000Z
DTSTART:20210212T100000Z
DTEND:20210212T113000Z
LAST-MODIFIED:20221031T120448Z
SUMMARY:Hvordan få fart på rogalandseksporten?
DESCRIPTION:DIGITALKONFERANSE: Vi må ruste oss for å øke eksporten fra Rogaland. Men hvordan, og hvem kan hjelpe til?
X-ALT-DESC:DIGITALKONFERANSE: Vi m&#229; ruste oss for &#229; &#248;ke eksporten fra Rogaland. Men hvordan, og hvem kan hjelpe til?
LOCATION:Online
END:VEVENT


END:VCALENDAR



