
BEGIN:VCALENDAR
VERSION:2.0
PRODID:-//MarkedsPartner AS//Umbraco CMS//NO
TIMEZONE-ID:Europe/Oslo
X-WR-TIMEZONE:Europe/Oslo


BEGIN:VEVENT
UID:09f120e4fb2f45cbba82c26945df4350
URL:https://umbraco.naeringsforeningen.no/moeter/arkiv/ek_2022/
ORGANIZER;CN=Ola Normann:MAILTO:ola.normann@markedspartner.no
DTSTAMP:20220406T070000Z
DTSTART:20220406T070000Z
DTEND:20220406T134000Z
LAST-MODIFIED:20221031T122527Z
SUMMARY:EK2022 med Arne Hjeltnes 
DESCRIPTION:Egersundskonferansen er årets samlingspunkt for næringslivet i regionen. I år kjører vi på med egen middag på kvelden med fokus på lokal mat, lokal drikke og gode historier fra Arne Hjeltnes.
X-ALT-DESC:Egersundskonferansen er &#229;rets samlingspunkt for n&#230;ringslivet i regionen. I &#229;r kj&#248;rer vi p&#229; med egen middag p&#229; kvelden med fokus p&#229; lokal mat, lokal drikke og gode historier fra Arne Hjeltnes.
LOCATION:Egersund Arena, Gamle Eiger&#248;yveien 34, 4373 Egersund
END:VEVENT


END:VCALENDAR



