
BEGIN:VCALENDAR
VERSION:2.0
PRODID:-//MarkedsPartner AS//Umbraco CMS//NO
TIMEZONE-ID:Europe/Oslo
X-WR-TIMEZONE:Europe/Oslo


BEGIN:VEVENT
UID:7dd0f7b292c540d5b7998844b3517182
URL:https://umbraco.naeringsforeningen.no/moeter/arkiv/ek25_egersundkonferansen-2025/
ORGANIZER;CN=Ola Normann:MAILTO:ola.normann@markedspartner.no
DTSTAMP:20250610T100000Z
DTSTART:20250610T100000Z
DTEND:20250610T153000Z
LAST-MODIFIED:20250611T083647Z
SUMMARY:EK25 Egersundkonferansen 
DESCRIPTION:Bli med på EK25 i Egersund! Vi tror gullet i næringslivet ligger i samspillet mellom mennesker og teknologi. Når Norges ledende stemme på AI og teknologi, Lars Rinnan, og Norges ledende konferansier og foredragsholder om mennesker og samarbeid, okka egen Knut Skeie Solberg, kommer til Egersund – ja, da er EK25 stedet å være!
X-ALT-DESC:Bli med p&#229; EK25 i Egersund! Vi tror gullet i n&#230;ringslivet ligger i samspillet mellom mennesker og teknologi. N&#229;r Norges ledende stemme p&#229; AI og teknologi, Lars Rinnan, og Norges ledende konferansier og foredragsholder om mennesker og samarbeid, okka egen Knut Skeie Solberg, kommer til Egersund – ja, da er EK25 stedet &#229; v&#230;re!
LOCATION:Egersund Kino og Kulturhus
END:VEVENT


END:VCALENDAR



