
BEGIN:VCALENDAR
VERSION:2.0
PRODID:-//MarkedsPartner AS//Umbraco CMS//NO
TIMEZONE-ID:Europe/Oslo
X-WR-TIMEZONE:Europe/Oslo


BEGIN:VEVENT
UID:62ed4b9705174ed296f335da9dfbe67d
URL:https://umbraco.naeringsforeningen.no/moeter/arkiv/ek24_egersundkonferansen-2024/
ORGANIZER;CN=Ola Normann:MAILTO:ola.normann@markedspartner.no
DTSTAMP:20240603T100000Z
DTSTART:20240603T100000Z
DTEND:20240603T154500Z
LAST-MODIFIED:20240604T113505Z
SUMMARY:EK24 – Egersundkonferansen
DESCRIPTION:Bli med på EK24 i Egersund – den største og viktigste møteplassen for næringslivet i Dalane. I år ser vi nærmere på mulighetene i regionen, og med oss på scenen har vi Hans Kristian Mong fra Egersund Group, Kari Aasly fra Norges geologiske undersøkelse (NGU), Eirik Bjørnø fra Viking, Kyrre Knudsen fra SpareBank 1 SR-Bank – og mange flere. Dette må du få med deg!
X-ALT-DESC:Bli med p&#229; EK24 i Egersund – den st&#248;rste og viktigste m&#248;teplassen for n&#230;ringslivet i Dalane. I &#229;r ser vi n&#230;rmere p&#229; mulighetene i regionen, og med oss p&#229; scenen har vi Hans Kristian Mong fra Egersund Group, Kari Aasly fra Norges geologiske unders&#248;kelse (NGU), Eirik Bj&#248;rn&#248; fra Viking, Kyrre Knudsen fra SpareBank 1 SR-Bank – og mange flere. Dette m&#229; du f&#229; med deg!
LOCATION:Egersund Kino og Kulturhus
END:VEVENT


END:VCALENDAR



