
BEGIN:VCALENDAR
VERSION:2.0
PRODID:-//MarkedsPartner AS//Umbraco CMS//NO
TIMEZONE-ID:Europe/Oslo
X-WR-TIMEZONE:Europe/Oslo


BEGIN:VEVENT
UID:84edf5edcd23493ca8254d67c3f44515
URL:https://umbraco.naeringsforeningen.no/moeter/arkiv/ek23_egersundkonferansen-2023/
ORGANIZER;CN=Ola Normann:MAILTO:ola.normann@markedspartner.no
DTSTAMP:20230601T100000Z
DTSTART:20230601T100000Z
DTEND:20230601T200000Z
LAST-MODIFIED:20230621T121941Z
SUMMARY:EK23 - Egersundkonferansen
DESCRIPTION:Velkommen til EK23 i Egersund. Dette er den største møteplassen for næringslivet i Dalane i 2023. Konferansens overskrift er: Dalane også i verden.
X-ALT-DESC:Velkommen til EK23 i Egersund. Dette er den st&#248;rste m&#248;teplassen for n&#230;ringslivet i Dalane i 2023. Konferansens overskrift er: Dalane ogs&#229; i verden.
LOCATION:Egersund Kulturhus
END:VEVENT


END:VCALENDAR



