
BEGIN:VCALENDAR
VERSION:2.0
PRODID:-//MarkedsPartner AS//Umbraco CMS//NO
TIMEZONE-ID:Europe/Oslo
X-WR-TIMEZONE:Europe/Oslo


BEGIN:VEVENT
UID:e546c2e6f33e4185941b7a5099028fdf
URL:https://umbraco.naeringsforeningen.no/moeter/arkiv/egersund-konferansen-ek20/
ORGANIZER;CN=Ola Normann:MAILTO:ola.normann@markedspartner.no
DTSTAMP:20200129T080000Z
DTSTART:20200129T080000Z
DTEND:20200129T140000Z
LAST-MODIFIED:20221031T115907Z
SUMMARY:Egersund-konferansen 2020
DESCRIPTION:Velkommen til EK20 i Egersund Arena. Dette er den største møteplassen for næringslivet i Dalane i 2020. I år stiller vi blant annet spørsmålene: Hvor attraktive er vi? Hva har vi i vente i Dalane? Blant foredragsholderne er stortingsrepresentant Roy Steffensen, sjeføkonom Kyrre M. Knudsen og ny redaktør i Dalane Tidende, Alise Lea Tiller.
X-ALT-DESC:Velkommen til EK20 i Egersund Arena. Dette er den st&#248;rste m&#248;teplassen for n&#230;ringslivet i Dalane i 2020. I &#229;r stiller vi blant annet sp&#248;rsm&#229;lene: Hvor attraktive er vi? Hva har vi i vente i Dalane? Blant foredragsholderne er stortingsrepresentant Roy Steffensen, sjef&#248;konom Kyrre M. Knudsen og ny redakt&#248;r i Dalane Tidende, Alise Lea Tiller.
LOCATION:Egersund Arena
END:VEVENT


END:VCALENDAR



