
BEGIN:VCALENDAR
VERSION:2.0
PRODID:-//MarkedsPartner AS//Umbraco CMS//NO
TIMEZONE-ID:Europe/Oslo
X-WR-TIMEZONE:Europe/Oslo


BEGIN:VEVENT
UID:20b1bc6c933d4c408753901c2fc90eca
URL:https://umbraco.naeringsforeningen.no/moeter/arkiv/effektiv-digital-hverdag_januar-2022/
ORGANIZER;CN=Ola Normann:MAILTO:ola.normann@markedspartner.no
DTSTAMP:20220120T100000Z
DTSTART:20220120T100000Z
DTEND:20220120T111000Z
LAST-MODIFIED:20221031T122953Z
SUMMARY:Effektiv og trygg digital hverdag
DESCRIPTION:DIGITALKONFEREANSE: Hva er nytt siden mars 2020, når nærmest hele arbeidslivet ble digitalisert gjennom Teams, Zoom og andre verktøy over natten? Og hvorfor har så mange bedrifter blitt hacket i løpet av de siste ukene?
X-ALT-DESC:DIGITALKONFEREANSE: Hva er nytt siden mars 2020, n&#229;r n&#230;rmest hele arbeidslivet ble digitalisert gjennom Teams, Zoom og andre verkt&#248;y over natten? Og hvorfor har s&#229; mange bedrifter blitt hacket i l&#248;pet av de siste ukene?
LOCATION:Digitalkonferanse
END:VEVENT


END:VCALENDAR



