
BEGIN:VCALENDAR
VERSION:2.0
PRODID:-//MarkedsPartner AS//Umbraco CMS//NO
TIMEZONE-ID:Europe/Oslo
X-WR-TIMEZONE:Europe/Oslo


BEGIN:VEVENT
UID:82bbf0faae6a4bbcac7b6230ab15b60b
URL:https://umbraco.naeringsforeningen.no/moeter/arkiv/droner_240522/
ORGANIZER;CN=Ola Normann:MAILTO:ola.normann@markedspartner.no
DTSTAMP:20220524T063000Z
DTSTART:20220524T063000Z
DTEND:20220524T100000Z
LAST-MODIFIED:20221031T121538Z
SUMMARY:Dronedagen 2022
DESCRIPTION:Stavanger-regionen er ledende på droner i Norge, både i luften og på havbunnen. Nå skal vi konkurrere i verdensmesterskapet! Dronedagen 2022 er den årlige møteplassen for bransjen og alle som er interessert i de mulighetene som droneindustrien gir i årene som kommer.
X-ALT-DESC:Stavanger-regionen er ledende p&#229; droner i Norge, b&#229;de i luften og p&#229; havbunnen. N&#229; skal vi konkurrere i verdensmesterskapet! Dronedagen 2022 er den &#229;rlige m&#248;teplassen for bransjen og alle som er interessert i de mulighetene som droneindustrien gir i &#229;rene som kommer.
LOCATION:Rosenkildehuset, Strandkaien 6, 4005 Stavanger
END:VEVENT


END:VCALENDAR



