
BEGIN:VCALENDAR
VERSION:2.0
PRODID:-//MarkedsPartner AS//Umbraco CMS//NO
TIMEZONE-ID:Europe/Oslo
X-WR-TIMEZONE:Europe/Oslo


BEGIN:VEVENT
UID:7f6228f5f7e8469c91ff2f4783acd628
URL:https://umbraco.naeringsforeningen.no/moeter/arkiv/dronene-er-her-naa_260820/
ORGANIZER;CN=Ola Normann:MAILTO:ola.normann@markedspartner.no
DTSTAMP:20200826T061500Z
DTSTART:20200826T061500Z
DTEND:20200826T093000Z
LAST-MODIFIED:20221031T121559Z
SUMMARY:Droner: Ikke lenger en framtidsvisjon
DESCRIPTION:Droner for framtidens løsninger, og framtiden er elektrisk.
X-ALT-DESC:Droner for framtidens l&#248;sninger, og framtiden er elektrisk.
LOCATION:Stavanger Hall, Clarion Hotel Stavanger
END:VEVENT


END:VCALENDAR



