
BEGIN:VCALENDAR
VERSION:2.0
PRODID:-//MarkedsPartner AS//Umbraco CMS//NO
TIMEZONE-ID:Europe/Oslo
X-WR-TIMEZONE:Europe/Oslo


BEGIN:VEVENT
UID:9de4b54435994be8aadcb4be170c6ff4
URL:https://umbraco.naeringsforeningen.no/moeter/arkiv/diversity-inclusion-frokost-moete-2024-4/
ORGANIZER;CN=Ola Normann:MAILTO:ola.normann@markedspartner.no
DTSTAMP:20241002T060000Z
DTSTART:20241002T060000Z
DTEND:20241002T080000Z
LAST-MODIFIED:20241003T091026Z
SUMMARY:DEI Breakfast: Boost your business's diversity and inclusion efforts!
DESCRIPTION:This is a unique opportunity to gain direct access to the experts and learn how to leverage public initiatives to enrich your organization's culture and operations! 
 NB This meeting will be held in Norwegian.
X-ALT-DESC:This is a unique opportunity to gain direct access to the experts and learn how to leverage public initiatives to enrich your organization&#39;s culture and operations! 
 NB This meeting will be held in Norwegian.
LOCATION:Rosenskildehuset
END:VEVENT


END:VCALENDAR



