
BEGIN:VCALENDAR
VERSION:2.0
PRODID:-//MarkedsPartner AS//Umbraco CMS//NO
TIMEZONE-ID:Europe/Oslo
X-WR-TIMEZONE:Europe/Oslo


BEGIN:VEVENT
UID:37910279d3104b73a6e79f69cd9b7d9e
URL:https://umbraco.naeringsforeningen.no/moeter/arkiv/diversity-inclusion-frokost-moete-2024-2/
ORGANIZER;CN=Ola Normann:MAILTO:ola.normann@markedspartner.no
DTSTAMP:20240904T060000Z
DTSTART:20240904T060000Z
DTEND:20240904T080000Z
LAST-MODIFIED:20240909T055935Z
SUMMARY:DEI Breakfast: Enhancing Work Performance through belonging and recognition!
DESCRIPTION:Join us for an engaging panel discussion focused on «Enhancing Work Performance through Belonging and Recognition». Gain valuable insights into fostering a sense of belonging and the importance of recognition in optimising workplace performance. We look forward to an enriching discussion with CMO at Aker Solutions, Eigil Gulliksen, CEO at Fishbones AS, Eirik Renli and Director of Energy and Utilities at Capgemini, Camilla Dybendal!
X-ALT-DESC:Join us for an engaging panel discussion focused on &#171;Enhancing Work Performance through Belonging and Recognition&#187;. Gain valuable insights into fostering a sense of belonging and the importance of recognition in optimising workplace performance. We look forward to an enriching discussion with CMO at Aker Solutions, Eigil Gulliksen, CEO at Fishbones AS, Eirik Renli and Director of Energy and Utilities at Capgemini, Camilla Dybendal!
LOCATION:Rosenskildehuset
END:VEVENT


END:VCALENDAR



