
BEGIN:VCALENDAR
VERSION:2.0
PRODID:-//MarkedsPartner AS//Umbraco CMS//NO
TIMEZONE-ID:Europe/Oslo
X-WR-TIMEZONE:Europe/Oslo


BEGIN:VEVENT
UID:1013a637b67a499dbb1d32a16c0e1dfe
URL:https://umbraco.naeringsforeningen.no/moeter/arkiv/diversity-inclusion-frokost-moete-2024-1/
ORGANIZER;CN=Ola Normann:MAILTO:ola.normann@markedspartner.no
DTSTAMP:20240403T060000Z
DTSTART:20240403T060000Z
DTEND:20240403T080000Z
LAST-MODIFIED:20240403T132342Z
SUMMARY:DEI Breakfast: Embracing diversity, equity and inclusion as a key to success
DESCRIPTION:Åshild Hanne Larsen is VP Subsurface Excellence & Digital at Equinor. Learn how she and Equinor use diversity, equity and inclusion as a key to success. We promise an enriching exploration of practical strategies for embedding diversity and inclusion principles within your organization!
X-ALT-DESC:&#197;shild Hanne Larsen is VP Subsurface Excellence &amp; Digital at Equinor. Learn how she and Equinor use diversity, equity and inclusion as a key to success. We promise an enriching exploration of practical strategies for embedding diversity and inclusion principles within your organization!
LOCATION:Rosenskildehuset
END:VEVENT


END:VCALENDAR



