
BEGIN:VCALENDAR
VERSION:2.0
PRODID:-//MarkedsPartner AS//Umbraco CMS//NO
TIMEZONE-ID:Europe/Oslo
X-WR-TIMEZONE:Europe/Oslo


BEGIN:VEVENT
UID:5f7fb594352f4e57a462b6ad8f4411da
URL:https://umbraco.naeringsforeningen.no/moeter/arkiv/digital-markedsfoering-v-bygg-din-egen-merkevare/
ORGANIZER;CN=Ola Normann:MAILTO:ola.normann@markedspartner.no
DTSTAMP:20200313T070000Z
DTSTART:20200313T070000Z
DTEND:20200313T090000Z
LAST-MODIFIED:20221031T120127Z
SUMMARY:Digital markedsføring V: Bygg din egen merkevare
DESCRIPTION:MØTET BLIR GJENNOMFORT SOM WEBINAR FREDAG 13. MARS. INFORMASJON TIL DE SOM ER PÅMELDT BLIR SENDT VIA E-POST.
X-ALT-DESC:M&#216;TET BLIR GJENNOMFORT SOM WEBINAR FREDAG 13. MARS. INFORMASJON TIL DE SOM ER P&#197;MELDT BLIR SENDT VIA E-POST.
LOCATION:Rosenkildehuset
END:VEVENT


END:VCALENDAR



