
BEGIN:VCALENDAR
VERSION:2.0
PRODID:-//MarkedsPartner AS//Umbraco CMS//NO
TIMEZONE-ID:Europe/Oslo
X-WR-TIMEZONE:Europe/Oslo


BEGIN:VEVENT
UID:1d4840b1540b462e9c338b5a971edbaa
URL:https://umbraco.naeringsforeningen.no/moeter/arkiv/digital-markedsfoering-iv-aktiv-hverdagsstrategi/
ORGANIZER;CN=Ola Normann:MAILTO:ola.normann@markedspartner.no
DTSTAMP:20200214T070000Z
DTSTART:20200214T070000Z
DTEND:20200214T090000Z
LAST-MODIFIED:20221031T115631Z
SUMMARY:Digital markedsføring IV: Aktiv hverdagsstrategi
DESCRIPTION:Hold det tempoet du har oppe, men ikke stress.
X-ALT-DESC:Hold det tempoet du har oppe, men ikke stress.
LOCATION:Rosenkildehuset
END:VEVENT


END:VCALENDAR



