
BEGIN:VCALENDAR
VERSION:2.0
PRODID:-//MarkedsPartner AS//Umbraco CMS//NO
TIMEZONE-ID:Europe/Oslo
X-WR-TIMEZONE:Europe/Oslo


BEGIN:VEVENT
UID:8848e7cb5f8c4c4eb999c3d244ded15f
URL:https://umbraco.naeringsforeningen.no/moeter/arkiv/digital-markedsfoering-iii-annonsering-et-ord-med-mening-men-uten-innhold/
ORGANIZER;CN=Ola Normann:MAILTO:ola.normann@markedspartner.no
DTSTAMP:20191213T070000Z
DTSTART:20191213T070000Z
DTEND:20191213T090000Z
LAST-MODIFIED:20221031T115732Z
SUMMARY:Digital markedsføring III: Annonsering - et ord med mening, men uten innhold?
DESCRIPTION:Annonser er ikke det samme som før. Og godt er det!
X-ALT-DESC:Annonser er ikke det samme som f&#248;r. Og godt er det!
LOCATION:Rosenkildehuset, N&#230;ringsforeningen i Stavanger-regionen
END:VEVENT


END:VCALENDAR



