
BEGIN:VCALENDAR
VERSION:2.0
PRODID:-//MarkedsPartner AS//Umbraco CMS//NO
TIMEZONE-ID:Europe/Oslo
X-WR-TIMEZONE:Europe/Oslo


BEGIN:VEVENT
UID:f3beee38afbf4c21898ad65c3289cad8
URL:https://umbraco.naeringsforeningen.no/moeter/arkiv/digital-markedsfoering-ii-godt-innhold-god-trafikk/
ORGANIZER;CN=Ola Normann:MAILTO:ola.normann@markedspartner.no
DTSTAMP:20191115T070000Z
DTSTART:20191115T070000Z
DTEND:20191115T090000Z
LAST-MODIFIED:20221031T114204Z
SUMMARY:Digital markedsføring II: Godt innhold = god trafikk
DESCRIPTION:Skap godt og relevant innhold over tid slik at kundene kommer til deg.
X-ALT-DESC:Skap godt og relevant innhold over tid slik at kundene kommer til deg.
LOCATION:Rosenkildehuset, N&#230;ringsforeningen i Stavanger-regionen
END:VEVENT


END:VCALENDAR



