
BEGIN:VCALENDAR
VERSION:2.0
PRODID:-//MarkedsPartner AS//Umbraco CMS//NO
TIMEZONE-ID:Europe/Oslo
X-WR-TIMEZONE:Europe/Oslo


BEGIN:VEVENT
UID:5c2a3c37511e4459a297f8dc48b221b6
URL:https://umbraco.naeringsforeningen.no/moeter/arkiv/digital-markedsfoering-i-hvem-er-egentlig-kunden/
ORGANIZER;CN=Ola Normann:MAILTO:ola.normann@markedspartner.no
DTSTAMP:20191018T060000Z
DTSTART:20191018T060000Z
DTEND:20191018T080000Z
LAST-MODIFIED:20221031T113547Z
SUMMARY:Digital markedsføring I: Hvem er egentlig kunden? 
DESCRIPTION:Vi inviterer alle som jobber med markedsføring i å bli med på «Digital Markedsføring» – en møteserie for deg som virkelig ønsker å videreutvikle deg innen digital markedsføring.
X-ALT-DESC:Vi inviterer alle som jobber med markedsf&#248;ring i &#229; bli med p&#229; &#171;Digital Markedsf&#248;ring&#187; – en m&#248;teserie for deg som virkelig &#248;nsker &#229; videreutvikle deg innen digital markedsf&#248;ring.
LOCATION:Rosenkildehuset, Stavanger
END:VEVENT


END:VCALENDAR



