
BEGIN:VCALENDAR
VERSION:2.0
PRODID:-//MarkedsPartner AS//Umbraco CMS//NO
TIMEZONE-ID:Europe/Oslo
X-WR-TIMEZONE:Europe/Oslo


BEGIN:VEVENT
UID:b60e3bffed1243839c1ef29fa73f7606
URL:https://umbraco.naeringsforeningen.no/moeter/arkiv/digital-markedsfoering-100221/
ORGANIZER;CN=Ola Normann:MAILTO:ola.normann@markedspartner.no
DTSTAMP:20210210T120000Z
DTSTART:20210210T120000Z
DTEND:20210210T133000Z
LAST-MODIFIED:20221031T120430Z
SUMMARY:Digital markedsføring i annerledes tider
DESCRIPTION:DIGITAL KONFERANSE: Hvordan markedsføre seg når det er unntakstilstand? Hallgeir Gustavsen gir deg en pekepinn på hva du bør gjøre, og hvordan du kan kommunisere nå.
X-ALT-DESC:DIGITAL KONFERANSE: Hvordan markedsf&#248;re seg n&#229;r det er unntakstilstand? Hallgeir Gustavsen gir deg en pekepinn p&#229; hva du b&#248;r gj&#248;re, og hvordan du kan kommunisere n&#229;.
LOCATION:Online
END:VEVENT


END:VCALENDAR



