
BEGIN:VCALENDAR
VERSION:2.0
PRODID:-//MarkedsPartner AS//Umbraco CMS//NO
TIMEZONE-ID:Europe/Oslo
X-WR-TIMEZONE:Europe/Oslo


BEGIN:VEVENT
UID:97de9d20a74d4ae99896bcef7ae53b28
URL:https://umbraco.naeringsforeningen.no/moeter/arkiv/dialogmoete-oed_030220/
ORGANIZER;CN=Ola Normann:MAILTO:ola.normann@markedspartner.no
DTSTAMP:20200203T170000Z
DTSTART:20200203T170000Z
DTEND:20200203T183000Z
LAST-MODIFIED:20221031T115917Z
SUMMARY:Dialogmøte OED
DESCRIPTION:Dialogmøte med Olje- og Energi minister Tina Bru
X-ALT-DESC:Dialogm&#248;te med Olje- og Energi minister Tina Bru
LOCATION:Rosenkildehuset
END:VEVENT


END:VCALENDAR



