
BEGIN:VCALENDAR
VERSION:2.0
PRODID:-//MarkedsPartner AS//Umbraco CMS//NO
TIMEZONE-ID:Europe/Oslo
X-WR-TIMEZONE:Europe/Oslo


BEGIN:VEVENT
UID:73fcff6004dc4f32b40bbc1dea3efd7c
URL:https://umbraco.naeringsforeningen.no/moeter/arkiv/designthinking_210921/
ORGANIZER;CN=Ola Normann:MAILTO:ola.normann@markedspartner.no
DTSTAMP:20210921T073000Z
DTSTART:20210921T073000Z
DTEND:20210921T120000Z
LAST-MODIFIED:20221031T122324Z
SUMMARY:Design thinking & siderfestival
DESCRIPTION:Hvordan har design thinking vært benyttet i regionens virksomheter for å skape reelle verdier?
 
Design thinking er en stadig mer populær metodikk i kreative prosesser, som kort oppsummert går ut på å navigere ut i fra brukerens behov.
X-ALT-DESC:Hvordan har design thinking v&#230;rt benyttet i regionens virksomheter for &#229; skape reelle verdier?
 
Design thinking er en stadig mer popul&#230;r metodikk i kreative prosesser, som kort oppsummert g&#229;r ut p&#229; &#229; navigere ut i fra brukerens behov.
LOCATION:Rosenkildehuset
END:VEVENT


END:VCALENDAR



