
BEGIN:VCALENDAR
VERSION:2.0
PRODID:-//MarkedsPartner AS//Umbraco CMS//NO
TIMEZONE-ID:Europe/Oslo
X-WR-TIMEZONE:Europe/Oslo


BEGIN:VEVENT
UID:c9c4a5e6eb254826af276b51dc57efe4
URL:https://umbraco.naeringsforeningen.no/moeter/arkiv/den-store-styrekvelden_2024/
ORGANIZER;CN=Ola Normann:MAILTO:ola.normann@markedspartner.no
DTSTAMP:20241120T170000Z
DTSTART:20241120T170000Z
DTEND:20241120T200000Z
LAST-MODIFIED:20241121T145007Z
SUMMARY:Den store styrekvelden 2024
DESCRIPTION:Nå må du ha orden på styret ditt! Regjeringens nye utvidede lovkrav iverksettes fra 1. januar 2025. Vi inviterer til Den store styrekvelden på Fiskepiren hvor vi får en gjennomgang av hvordan du bør gå fram for å møte de nye kravene og utnytte dem til din fordel. På scenen står profilerte og dyktige Anita Krohn og Hedvig Moe med flere.
X-ALT-DESC:N&#229; m&#229; du ha orden p&#229; styret ditt! Regjeringens nye utvidede lovkrav iverksettes fra 1. januar 2025. Vi inviterer til Den store styrekvelden p&#229; Fiskepiren hvor vi f&#229;r en gjennomgang av hvordan du b&#248;r g&#229; fram for &#229; m&#248;te de nye kravene og utnytte dem til din fordel. P&#229; scenen st&#229;r profilerte og dyktige Anita Krohn og Hedvig Moe med flere.
LOCATION:Fiskepiren
END:VEVENT


END:VCALENDAR



