
BEGIN:VCALENDAR
VERSION:2.0
PRODID:-//MarkedsPartner AS//Umbraco CMS//NO
TIMEZONE-ID:Europe/Oslo
X-WR-TIMEZONE:Europe/Oslo


BEGIN:VEVENT
UID:bfdb20bd700445ddbff72e86c93a61e0
URL:https://umbraco.naeringsforeningen.no/moeter/arkiv/delingsoekonomi-paa-norsk-sokkel_080521/
ORGANIZER;CN=Ola Normann:MAILTO:ola.normann@markedspartner.no
DTSTAMP:20210608T100000Z
DTSTART:20210608T100000Z
DTEND:20210608T113000Z
LAST-MODIFIED:20221031T122009Z
SUMMARY:Samhandling på norsk sokkel
DESCRIPTION:DIGITALKONFERANSE: Norsk olje og gass industri har de siste årene fokusert mer og mer på samhandling og samarbeidsmodeller. Bakgrunnen er et økende ønske om å jobbe mer effektivt, sikre læring på tvers, samt sikre kostnadseffektivitet for både operatører og leverandører. Nøkkelen for samhandling og samarbeid er digitalisering.
X-ALT-DESC:DIGITALKONFERANSE: Norsk olje og gass industri har de siste &#229;rene fokusert mer og mer p&#229; samhandling og samarbeidsmodeller. Bakgrunnen er et &#248;kende &#248;nske om &#229; jobbe mer effektivt, sikre l&#230;ring p&#229; tvers, samt sikre kostnadseffektivitet for b&#229;de operat&#248;rer og leverand&#248;rer. N&#248;kkelen for samhandling og samarbeid er digitalisering.
LOCATION:Digital konferanse
END:VEVENT


END:VCALENDAR



