
BEGIN:VCALENDAR
VERSION:2.0
PRODID:-//MarkedsPartner AS//Umbraco CMS//NO
TIMEZONE-ID:Europe/Oslo
X-WR-TIMEZONE:Europe/Oslo


BEGIN:VEVENT
UID:0395222826ed41b0b35916421d4431b5
URL:https://umbraco.naeringsforeningen.no/moeter/arkiv/de_nye_innleiereglene_140923/
ORGANIZER;CN=Ola Normann:MAILTO:ola.normann@markedspartner.no
DTSTAMP:20230914T063000Z
DTSTART:20230914T063000Z
DTEND:20230914T074500Z
LAST-MODIFIED:20230915T091701Z
SUMMARY:Nye innleieregler ­– slik er bedriftenes handlingsrom!
DESCRIPTION:DIGITALKONFERANSE: Fra 1. juli ble regelverket for innleie fra bemanningsforetak strammet betydelig inn. På dette møtet får du vite hva som er handlingsrommet for din bedrift.
X-ALT-DESC:DIGITALKONFERANSE: Fra 1. juli ble regelverket for innleie fra bemanningsforetak strammet betydelig inn. P&#229; dette m&#248;tet f&#229;r du vite hva som er handlingsrommet for din bedrift.
LOCATION:Digitalt
END:VEVENT


END:VCALENDAR



