
BEGIN:VCALENDAR
VERSION:2.0
PRODID:-//MarkedsPartner AS//Umbraco CMS//NO
TIMEZONE-ID:Europe/Oslo
X-WR-TIMEZONE:Europe/Oslo


BEGIN:VEVENT
UID:972983d8a7f64d7ebca07b289b24cd6b
URL:https://umbraco.naeringsforeningen.no/moeter/arkiv/copilot_mai-2024/
ORGANIZER;CN=Ola Normann:MAILTO:ola.normann@markedspartner.no
DTSTAMP:20240524T063000Z
DTSTART:20240524T063000Z
DTEND:20240524T083000Z
LAST-MODIFIED:20240527T053731Z
SUMMARY:Det du må vite om Copilot for Office 365
DESCRIPTION:Hva er M365 Copilot og hvordan kan M365 Copilot brukes som et verktøy for å effektivere bedriftens arbeid? Vi forteller deg det du må vite om Microsofts nye AI-verktøy for Office 365. Vi får besøk av Miriam Voster fra Bouvet, Kari Tøge fra Vår Energi og Sven Kjartan Figved fra Upheads.
X-ALT-DESC:Hva er M365 Copilot og hvordan kan M365 Copilot brukes som et verkt&#248;y for &#229; effektivere bedriftens arbeid? Vi forteller deg det du m&#229; vite om Microsofts nye AI-verkt&#248;y for Office 365. Vi f&#229;r bes&#248;k av Miriam Voster fra Bouvet, Kari T&#248;ge fra V&#229;r Energi og Sven Kjartan Figved fra Upheads.
LOCATION:Rosenkildehuset
END:VEVENT


END:VCALENDAR



