
BEGIN:VCALENDAR
VERSION:2.0
PRODID:-//MarkedsPartner AS//Umbraco CMS//NO
TIMEZONE-ID:Europe/Oslo
X-WR-TIMEZONE:Europe/Oslo


BEGIN:VEVENT
UID:b6f631eca3934e2b8f27a48e49fce369
URL:https://umbraco.naeringsforeningen.no/moeter/arkiv/ccus-workshop_130625/
ORGANIZER;CN=Ola Normann:MAILTO:ola.normann@markedspartner.no
DTSTAMP:20250613T070000Z
DTSTART:20250613T070000Z
DTEND:20250613T110000Z
LAST-MODIFIED:20250616T060609Z
SUMMARY:CCUS Workshop
DESCRIPTION:The First Mile CCS Logistics Solution for Small and Mid-size Emitters. CCS logistics is one of the challenges needed to be solved. The energy transformation needs effective and all-embracing solutions to capture and transport CO2.
X-ALT-DESC:The First Mile CCS Logistics Solution for Small and Mid-size Emitters. CCS logistics is one of the challenges needed to be solved. The energy transformation needs effective and all-embracing solutions to capture and transport CO2.
LOCATION:Rosenkildehuset, Strandkaien 6, 4005 Stavanger
END:VEVENT


END:VCALENDAR



