
BEGIN:VCALENDAR
VERSION:2.0
PRODID:-//MarkedsPartner AS//Umbraco CMS//NO
TIMEZONE-ID:Europe/Oslo
X-WR-TIMEZONE:Europe/Oslo


BEGIN:VEVENT
UID:204ff707d35e488ebc938001ca476ae0
URL:https://umbraco.naeringsforeningen.no/moeter/arkiv/ccus-conference2025/
ORGANIZER;CN=Ola Normann:MAILTO:ola.normann@markedspartner.no
DTSTAMP:20250612T070000Z
DTSTART:20250612T070000Z
DTEND:20250612T150000Z
LAST-MODIFIED:20250616T060549Z
SUMMARY:CCUS Conference
DESCRIPTION:The gathering will bring together key stakeholders and decision-makers to discuss the frameworks, strategies, and advancements essential for developing effective carbon capture, storage and utilization (CCUS) value chains.
X-ALT-DESC:The gathering will bring together key stakeholders and decision-makers to discuss the frameworks, strategies, and advancements essential for developing effective carbon capture, storage and utilization (CCUS) value chains.
LOCATION:Clarion Hotel, Arne Rettedalsgt. 14, 4008 Stavanger
END:VEVENT


END:VCALENDAR



