
BEGIN:VCALENDAR
VERSION:2.0
PRODID:-//MarkedsPartner AS//Umbraco CMS//NO
TIMEZONE-ID:Europe/Oslo
X-WR-TIMEZONE:Europe/Oslo


BEGIN:VEVENT
UID:a4a3e0c22d7d43a38931521b58fb3ac8
URL:https://umbraco.naeringsforeningen.no/moeter/arkiv/ccs-et-industrieventyr_220421/
ORGANIZER;CN=Ola Normann:MAILTO:ola.normann@markedspartner.no
DTSTAMP:20210422T063000Z
DTSTART:20210422T063000Z
DTEND:20210422T080000Z
LAST-MODIFIED:20221031T121241Z
SUMMARY:CCS verdikjede
DESCRIPTION:DIGITALKONFERANSE:  Hva er nå situasjonen for CCS i regionalt og internasjonalt perspektiv? Hvilke muligheter gir CCS for regionens næringsliv i tiden fremover?
X-ALT-DESC:DIGITALKONFERANSE:  Hva er n&#229; situasjonen for CCS i regionalt og internasjonalt perspektiv? Hvilke muligheter gir CCS for regionens n&#230;ringsliv i tiden fremover?
LOCATION:Online
END:VEVENT


END:VCALENDAR



