
BEGIN:VCALENDAR
VERSION:2.0
PRODID:-//MarkedsPartner AS//Umbraco CMS//NO
TIMEZONE-ID:Europe/Oslo
X-WR-TIMEZONE:Europe/Oslo


BEGIN:VEVENT
UID:b70412f70df44ad0aeb171e98821281d
URL:https://umbraco.naeringsforeningen.no/moeter/arkiv/bylivskonferansen_140922/
ORGANIZER;CN=Ola Normann:MAILTO:ola.normann@markedspartner.no
DTSTAMP:20220914T060000Z
DTSTART:20220914T060000Z
DTEND:20220914T091500Z
LAST-MODIFIED:20230421T132331Z
SUMMARY:Bylivskonferansen i Sandnes
DESCRIPTION:Som vinner av Attraktiv by-prisen 2022 kan Sandnes som by gi seg selv en klapp på skulderen etter mange år med langsiktig og hardt arbeid. Men hva er neste steg?
X-ALT-DESC:Som vinner av Attraktiv by-prisen 2022 kan Sandnes som by gi seg selv en klapp p&#229; skulderen etter mange &#229;r med langsiktig og hardt arbeid. Men hva er neste steg?
LOCATION:Vitenfabrikken, Storgata 28, Sandnes
END:VEVENT


END:VCALENDAR



