
BEGIN:VCALENDAR
VERSION:2.0
PRODID:-//MarkedsPartner AS//Umbraco CMS//NO
TIMEZONE-ID:Europe/Oslo
X-WR-TIMEZONE:Europe/Oslo


BEGIN:VEVENT
UID:df33efef494c49ccb2fe8e486ae97ad9
URL:https://umbraco.naeringsforeningen.no/moeter/arkiv/bylivskonferansen-i-sandnes_060923/
ORGANIZER;CN=Ola Normann:MAILTO:ola.normann@markedspartner.no
DTSTAMP:20230906T060000Z
DTSTART:20230906T060000Z
DTEND:20230906T100000Z
LAST-MODIFIED:20230911T062651Z
SUMMARY:Bylivskonferansen i Sandnes 2023
DESCRIPTION:Teknologi har hatt en betydelig innvirkning på bylivet og har endret måten vi lever, jobber og samhandler på i urbane områder. AI kan brukes til å analysere store mengder data og generere innsikt som kan hjelpe byplanleggere med å ta informerte beslutninger.
X-ALT-DESC:Teknologi har hatt en betydelig innvirkning p&#229; bylivet og har endret m&#229;ten vi lever, jobber og samhandler p&#229; i urbane omr&#229;der. AI kan brukes til &#229; analysere store mengder data og generere innsikt som kan hjelpe byplanleggere med &#229; ta informerte beslutninger.
LOCATION:Vitenfabrikken, Sandnes
END:VEVENT


END:VCALENDAR



