
BEGIN:VCALENDAR
VERSION:2.0
PRODID:-//MarkedsPartner AS//Umbraco CMS//NO
TIMEZONE-ID:Europe/Oslo
X-WR-TIMEZONE:Europe/Oslo


BEGIN:VEVENT
UID:2ca2bef5e3874362ac350e2d7ea17c23
URL:https://umbraco.naeringsforeningen.no/moeter/arkiv/byjubileet-egersund-by-225-aar_250322/
ORGANIZER;CN=Ola Normann:MAILTO:ola.normann@markedspartner.no
DTSTAMP:20230325T173000Z
DTSTART:20230325T173000Z
DTEND:20230325T220000Z
LAST-MODIFIED:20230326T010021Z
SUMMARY: EN225: Vi feirer Egersund by 225 år!
DESCRIPTION:I anledning Egersunds 225 års byjubileum inviteres du med følge til EN225- Egersund Næringslivsfest. Feiringen er i regi av Næringsforeningen og avholdes i Sangerlosjen 25. mars.
X-ALT-DESC:I anledning Egersunds 225 &#229;rs byjubileum inviteres du med f&#248;lge til EN225- Egersund N&#230;ringslivsfest. Feiringen er i regi av N&#230;ringsforeningen og avholdes i Sangerlosjen 25. mars.
LOCATION:Sangerlosjen i Egersund
END:VEVENT


END:VCALENDAR



