
BEGIN:VCALENDAR
VERSION:2.0
PRODID:-//MarkedsPartner AS//Umbraco CMS//NO
TIMEZONE-ID:Europe/Oslo
X-WR-TIMEZONE:Europe/Oslo


BEGIN:VEVENT
UID:a505345e64ba41a49eb353a1225e425c
URL:https://umbraco.naeringsforeningen.no/moeter/arkiv/byggeboersen_300120/
ORGANIZER;CN=Ola Normann:MAILTO:ola.normann@markedspartner.no
DTSTAMP:20200130T170000Z
DTSTART:20200130T170000Z
DTEND:20200130T200000Z
LAST-MODIFIED:20221031T115911Z
SUMMARY:Byggebørsen 2020: Dette er prosjektene som kommer
DESCRIPTION:Byggebørsen er utvilsomt årets mest lønnsomme konferanse for alle i bygg- og anleggsbransjen. Stavanger kommune, Sandnes kommune, Rogaland fylkeskommune, SUS2023, Lyse, Statens vegvesen, Stavanger Utvikling og Nye Veier kommer alle for å fortelle om hvilke prosjekter og nye kontrakter de planlegger å sende ut framover.
X-ALT-DESC:Byggeb&#248;rsen er utvilsomt &#229;rets mest l&#248;nnsomme konferanse for alle i bygg- og anleggsbransjen. Stavanger kommune, Sandnes kommune, Rogaland fylkeskommune, SUS2023, Lyse, Statens vegvesen, Stavanger Utvikling og Nye Veier kommer alle for &#229; fortelle om hvilke prosjekter og nye kontrakter de planlegger &#229; sende ut framover.
LOCATION:2020park, Forusparken 2
END:VEVENT


END:VCALENDAR



