
BEGIN:VCALENDAR
VERSION:2.0
PRODID:-//MarkedsPartner AS//Umbraco CMS//NO
TIMEZONE-ID:Europe/Oslo
X-WR-TIMEZONE:Europe/Oslo


BEGIN:VEVENT
UID:eecbc82ee60f45c488d22ca913ddcc48
URL:https://umbraco.naeringsforeningen.no/moeter/arkiv/byggeboersen-2025/
ORGANIZER;CN=Ola Normann:MAILTO:ola.normann@markedspartner.no
DTSTAMP:20250204T170000Z
DTSTART:20250204T170000Z
DTEND:20250204T201500Z
LAST-MODIFIED:20250206T115919Z
SUMMARY:BYGGEBØRSEN 2025: Dette er prosjektene som kommer
DESCRIPTION:Byggebørsen 2025 presenterer alle de store byggeprosjektene til de store aktørene i regionen – kort fortalt den mest lønnsomme konferansen for alle i bygg- og anleggsbransjen.
X-ALT-DESC:Byggeb&#248;rsen 2025 presenterer alle de store byggeprosjektene til de store akt&#248;rene i regionen – kort fortalt den mest l&#248;nnsomme konferansen for alle i bygg- og anleggsbransjen.
LOCATION:Finansparken Bjergsted
END:VEVENT


END:VCALENDAR



