
BEGIN:VCALENDAR
VERSION:2.0
PRODID:-//MarkedsPartner AS//Umbraco CMS//NO
TIMEZONE-ID:Europe/Oslo
X-WR-TIMEZONE:Europe/Oslo


BEGIN:VEVENT
UID:74864ccfbf2b4ea78b7a2ecf56ae3f09
URL:https://umbraco.naeringsforeningen.no/moeter/arkiv/byggeboersen-2022/
ORGANIZER;CN=Ola Normann:MAILTO:ola.normann@markedspartner.no
DTSTAMP:20220217T170000Z
DTSTART:20220217T170000Z
DTEND:20220217T200000Z
LAST-MODIFIED:20221221T091648Z
SUMMARY:Byggebørsen 2022: Dette er prosjektene som kommer
DESCRIPTION:Byggebørsen er utvilsomt årets mest lønnsomme konferanse for alle i bygg- og anleggsbransjen – og som ingen i bransjen bør gå glipp av. De store utbyggerne presenterer i år, som tidligere år, sine viktigste prosjekter. Som i fjor vil vi også lage en samlet digital oversikt over de største kontraktene som de største utbyggerne skal ut i markedet med – som alle deltakere på konferansen vil få tilgang til.
X-ALT-DESC:Byggeb&#248;rsen er utvilsomt &#229;rets mest l&#248;nnsomme konferanse for alle i bygg- og anleggsbransjen – og som ingen i bransjen b&#248;r g&#229; glipp av. De store utbyggerne presenterer i &#229;r, som tidligere &#229;r, sine viktigste prosjekter. Som i fjor vil vi ogs&#229; lage en samlet digital oversikt over de st&#248;rste kontraktene som de st&#248;rste utbyggerne skal ut i markedet med – som alle deltakere p&#229; konferansen vil f&#229; tilgang til.
LOCATION:Finansparken Bjergsted
END:VEVENT


END:VCALENDAR



