
BEGIN:VCALENDAR
VERSION:2.0
PRODID:-//MarkedsPartner AS//Umbraco CMS//NO
TIMEZONE-ID:Europe/Oslo
X-WR-TIMEZONE:Europe/Oslo


BEGIN:VEVENT
UID:f6fde55ae36d4385afbbf476a6fdf1b6
URL:https://umbraco.naeringsforeningen.no/moeter/arkiv/byggeboersen-2021/
ORGANIZER;CN=Ola Normann:MAILTO:ola.normann@markedspartner.no
DTSTAMP:20210224T170000Z
DTSTART:20210224T170000Z
DTEND:20210224T183000Z
LAST-MODIFIED:20221031T120652Z
SUMMARY:Byggebørsen 2021: Dette er prosjektene som kommer
DESCRIPTION:DIGITALKONFERANSE: Byggebørsen er utvilsomt årets mest lønnsomme konferanse for alle i bygg- og anleggsbransjen. De store utbyggerne presenterer i år, som tidligere år, sine viktigste prosjekter. Nytt av året er at vi vil lage en samlet digital oversikt over de største kontraktene som de største utbyggerne skal ut i markedet med – som alle deltakere på konferansen vil få tilgang til.
X-ALT-DESC:DIGITALKONFERANSE: Byggeb&#248;rsen er utvilsomt &#229;rets mest l&#248;nnsomme konferanse for alle i bygg- og anleggsbransjen. De store utbyggerne presenterer i &#229;r, som tidligere &#229;r, sine viktigste prosjekter. Nytt av &#229;ret er at vi vil lage en samlet digital oversikt over de st&#248;rste kontraktene som de st&#248;rste utbyggerne skal ut i markedet med – som alle deltakere p&#229; konferansen vil f&#229; tilgang til.
LOCATION:Online
END:VEVENT


END:VCALENDAR



