
BEGIN:VCALENDAR
VERSION:2.0
PRODID:-//MarkedsPartner AS//Umbraco CMS//NO
TIMEZONE-ID:Europe/Oslo
X-WR-TIMEZONE:Europe/Oslo


BEGIN:VEVENT
UID:16f03acc0abe492b9bd29325ff1d74e0
URL:https://umbraco.naeringsforeningen.no/moeter/arkiv/bygg-og-anleggsskolen_170920/
ORGANIZER;CN=Ola Normann:MAILTO:ola.normann@markedspartner.no
DTSTAMP:20200917T060000Z
DTSTART:20200917T060000Z
DTEND:20200917T083000Z
LAST-MODIFIED:20221031T113914Z
SUMMARY:Bygg- og anleggsskolen: Beste praksis for plan- og byggeprosesser
DESCRIPTION:Plan- og byggeprosesser er krevende. Hvordan klarer vi å skape gode og realiserbare reguleringsplaner og utbygginger med stor verdi for samfunnet, for offentlige og private utbyggere? Det er temaet for den første samlingen i bygg- og anleggskolen.
X-ALT-DESC:Plan- og byggeprosesser er krevende. Hvordan klarer vi &#229; skape gode og realiserbare reguleringsplaner og utbygginger med stor verdi for samfunnet, for offentlige og private utbyggere? Det er temaet for den f&#248;rste samlingen i bygg- og anleggskolen.
LOCATION:Clarion Hotel Energy
END:VEVENT


END:VCALENDAR



