
BEGIN:VCALENDAR
VERSION:2.0
PRODID:-//MarkedsPartner AS//Umbraco CMS//NO
TIMEZONE-ID:Europe/Oslo
X-WR-TIMEZONE:Europe/Oslo


BEGIN:VEVENT
UID:714b2086d52f4f45aca24bbdd16adce9
URL:https://umbraco.naeringsforeningen.no/moeter/arkiv/bygg-og-anleggsskolen_151020/
ORGANIZER;CN=Ola Normann:MAILTO:ola.normann@markedspartner.no
DTSTAMP:20201015T060000Z
DTSTART:20201015T060000Z
DTEND:20201015T083000Z
LAST-MODIFIED:20221031T114101Z
SUMMARY:Bygg- og anleggsskolen: Industrialisering og digitalisering
DESCRIPTION:Tenk nytt og bruk kjente løsninger. Digitaliseringen av bygg- og eiendomsnæringen pågår for fullt og vil gjøre det enklere å industrialisere byggeprosjektene. Bygg- og anleggsskolen tar denne gang for seg digitalisering i praksis og hvordan det kan og bør gjøre vår hverdag enklere.
X-ALT-DESC:Tenk nytt og bruk kjente l&#248;sninger. Digitaliseringen av bygg- og eiendomsn&#230;ringen p&#229;g&#229;r for fullt og vil gj&#248;re det enklere &#229; industrialisere byggeprosjektene. Bygg- og anleggsskolen tar denne gang for seg digitalisering i praksis og hvordan det kan og b&#248;r gj&#248;re v&#229;r hverdag enklere.
LOCATION:Scandic Stavanger Forus
END:VEVENT


END:VCALENDAR



