
BEGIN:VCALENDAR
VERSION:2.0
PRODID:-//MarkedsPartner AS//Umbraco CMS//NO
TIMEZONE-ID:Europe/Oslo
X-WR-TIMEZONE:Europe/Oslo


BEGIN:VEVENT
UID:9dd3abde1c8e49de82b89cdc67a24472
URL:https://umbraco.naeringsforeningen.no/moeter/arkiv/bygg-og-anleggsskolen_121120/
ORGANIZER;CN=Ola Normann:MAILTO:ola.normann@markedspartner.no
DTSTAMP:20201112T073000Z
DTSTART:20201112T073000Z
DTEND:20201112T093000Z
LAST-MODIFIED:20221031T115237Z
SUMMARY:Bygg- og anleggsskolen: Samhandling, åpenhet og tillit
DESCRIPTION:DIGITALKONFERANSE: Et byggeprosjekt krever kunnskap og erfaring fra mange disipliner og aktører. Med så mange faktorer og mennesker som må involveres, er det nesten utrolig at vi får det til. Denne gangen handler Bygg- og anleggsskolen om flinke folk på riktig plass til rett tid – hvordan vi jobber sammen på best mulig måte.
X-ALT-DESC:DIGITALKONFERANSE: Et byggeprosjekt krever kunnskap og erfaring fra mange disipliner og akt&#248;rer. Med s&#229; mange faktorer og mennesker som m&#229; involveres, er det nesten utrolig at vi f&#229;r det til. Denne gangen handler Bygg- og anleggsskolen om flinke folk p&#229; riktig plass til rett tid – hvordan vi jobber sammen p&#229; best mulig m&#229;te.
LOCATION:Online
END:VEVENT


END:VCALENDAR



