
BEGIN:VCALENDAR
VERSION:2.0
PRODID:-//MarkedsPartner AS//Umbraco CMS//NO
TIMEZONE-ID:Europe/Oslo
X-WR-TIMEZONE:Europe/Oslo


BEGIN:VEVENT
UID:d55ac54df2454ffc9f9fae02bdc99801
URL:https://umbraco.naeringsforeningen.no/moeter/arkiv/bygg-og-anleggsskolen-230921/
ORGANIZER;CN=Ola Normann:MAILTO:ola.normann@markedspartner.no
DTSTAMP:20210923T060000Z
DTSTART:20210923T060000Z
DTEND:20210923T083000Z
LAST-MODIFIED:20221031T122358Z
SUMMARY:Bygg- og anleggsskolen: BIM, VR og AR
DESCRIPTION:Hva er egentlig bygningsinformasjonsmodellering (BIM) og hvordan bruker vi dette optimalt? Og har virtuell virkelighet (VR) og utvidet virkelighet (AR) et stort bruksområde i bygg- og anleggsbransjen? Bygg- og anleggsskolen begynner høsten med BIM, VR og AR – sammen med Mads Fjeld og Anna Aabø fra Fagskolen.
X-ALT-DESC:Hva er egentlig bygningsinformasjonsmodellering (BIM) og hvordan bruker vi dette optimalt? Og har virtuell virkelighet (VR) og utvidet virkelighet (AR) et stort bruksomr&#229;de i bygg- og anleggsbransjen? Bygg- og anleggsskolen begynner h&#248;sten med BIM, VR og AR – sammen med Mads Fjeld og Anna Aab&#248; fra Fagskolen.
LOCATION:Rosenkildehuset
END:VEVENT


END:VCALENDAR



