
BEGIN:VCALENDAR
VERSION:2.0
PRODID:-//MarkedsPartner AS//Umbraco CMS//NO
TIMEZONE-ID:Europe/Oslo
X-WR-TIMEZONE:Europe/Oslo


BEGIN:VEVENT
UID:0373c5d859504c12aaab01cad034212c
URL:https://umbraco.naeringsforeningen.no/moeter/arkiv/bygg-og-anleggsskolen-081221/
ORGANIZER;CN=Ola Normann:MAILTO:ola.normann@markedspartner.no
DTSTAMP:20211208T070000Z
DTSTART:20211208T070000Z
DTEND:20211208T093000Z
LAST-MODIFIED:20221031T123243Z
SUMMARY:Bygg- og anleggsskolen: Samarbeid og samhandling i team
DESCRIPTION:DIGITALKONFERANSE: Samarbeid er nøkkelen til suksess, men hvordan får vi det til? Erlend Rørvik jobber med medarbeider- og lederutvikling, konflikthåndtering og teamutvikling i Bjørnson. Han vil presentere de viktigste kjennetegnene på høyprestasjonsteam. I tillegg kommer Sverre Tiltnes fra Construction City og Tone Espedal Walskaar fra Faber for dele sine erfaringer med samhandlings- og samspillskontrakter.
X-ALT-DESC:DIGITALKONFERANSE: Samarbeid er n&#248;kkelen til suksess, men hvordan f&#229;r vi det til? Erlend R&#248;rvik jobber med medarbeider- og lederutvikling, konflikth&#229;ndtering og teamutvikling i Bj&#248;rnson. Han vil presentere de viktigste kjennetegnene p&#229; h&#248;yprestasjonsteam. I tillegg kommer Sverre Tiltnes fra Construction City og Tone Espedal Walskaar fra Faber for dele sine erfaringer med samhandlings- og samspillskontrakter.
LOCATION:Rosenkildehuset
END:VEVENT


END:VCALENDAR



