
BEGIN:VCALENDAR
VERSION:2.0
PRODID:-//MarkedsPartner AS//Umbraco CMS//NO
TIMEZONE-ID:Europe/Oslo
X-WR-TIMEZONE:Europe/Oslo


BEGIN:VEVENT
UID:7c970b1e2bce4bb5a940e6ddcc298f99
URL:https://umbraco.naeringsforeningen.no/moeter/arkiv/bygg-og-anleggskolen_070421/
ORGANIZER;CN=Ola Normann:MAILTO:ola.normann@markedspartner.no
DTSTAMP:20210407T063000Z
DTSTART:20210407T063000Z
DTEND:20210407T080000Z
LAST-MODIFIED:20221031T121024Z
SUMMARY:Bygg- og anleggsskolen: Gode kontrakter og god lønnsomhet
DESCRIPTION:DIGITALKONFERANSE: Gode innkjøpsrutiner, kontrakter, avtaler og flere andre viktige suksesskriterier kan ha betydelig innvirkning på prosjektets lønnsomhet. Hva må du tenke på før og etter at kontakten er signert? Det er temaet for den første samlingen i bygg- og anleggsskolen.
X-ALT-DESC:DIGITALKONFERANSE: Gode innkj&#248;psrutiner, kontrakter, avtaler og flere andre viktige suksesskriterier kan ha betydelig innvirkning p&#229; prosjektets l&#248;nnsomhet. Hva m&#229; du tenke p&#229; f&#248;r og etter at kontakten er signert? Det er temaet for den f&#248;rste samlingen i bygg- og anleggsskolen.
LOCATION:Online
END:VEVENT


END:VCALENDAR



