
BEGIN:VCALENDAR
VERSION:2.0
PRODID:-//MarkedsPartner AS//Umbraco CMS//NO
TIMEZONE-ID:Europe/Oslo
X-WR-TIMEZONE:Europe/Oslo


BEGIN:VEVENT
UID:2b73794d402443d8a38f8b613e83916b
URL:https://umbraco.naeringsforeningen.no/moeter/arkiv/bygg-og-anleggskolen_050521/
ORGANIZER;CN=Ola Normann:MAILTO:ola.normann@markedspartner.no
DTSTAMP:20210505T063000Z
DTSTART:20210505T063000Z
DTEND:20210505T080000Z
LAST-MODIFIED:20221031T121439Z
SUMMARY:Bygg- og anleggsskolen: Innovasjon i BAE-næringen
DESCRIPTION:Innovasjon i BAE-næringen, hvorfor trenger vi det? Kravene til innovasjon og nytenkning blir bare større i årene som kommer. Men hvordan jobbe mer innovativt, og få det til å bli lønnsomt? Det er temaet for den andre samlingen i bygg- og anleggsskolen.
X-ALT-DESC:Innovasjon i BAE-n&#230;ringen, hvorfor trenger vi det? Kravene til innovasjon og nytenkning blir bare st&#248;rre i &#229;rene som kommer. Men hvordan jobbe mer innovativt, og f&#229; det til &#229; bli l&#248;nnsomt? Det er temaet for den andre samlingen i bygg- og anleggsskolen.
LOCATION:Online
END:VEVENT


END:VCALENDAR



