
BEGIN:VCALENDAR
VERSION:2.0
PRODID:-//MarkedsPartner AS//Umbraco CMS//NO
TIMEZONE-ID:Europe/Oslo
X-WR-TIMEZONE:Europe/Oslo


BEGIN:VEVENT
UID:7ac95110d1d248f88d1df9a7eb8c83c0
URL:https://umbraco.naeringsforeningen.no/moeter/arkiv/bygg-og-anleggskolen_020621/
ORGANIZER;CN=Ola Normann:MAILTO:ola.normann@markedspartner.no
DTSTAMP:20210602T063000Z
DTSTART:20210602T063000Z
DTEND:20210602T080000Z
LAST-MODIFIED:20221031T121850Z
SUMMARY:Bygg- og anleggsskolen: Beste praksis for plan- og byggesaker
DESCRIPTION:Hva bidrar til at flere kan få realisert sine reguleringsplaner i tide? Og hvordan gjennomføres medvirkning mer treffsikkert etter plan og bygningsloven, samt gir verdi til den lokale samfunnsutviklingen? Det er temaet for den siste samlingen i bygg- og anleggsskolen.
X-ALT-DESC:Hva bidrar til at flere kan f&#229; realisert sine reguleringsplaner i tide? Og hvordan gjennomf&#248;res medvirkning mer treffsikkert etter plan og bygningsloven, samt gir verdi til den lokale samfunnsutviklingen? Det er temaet for den siste samlingen i bygg- og anleggsskolen.
LOCATION:Online
END:VEVENT


END:VCALENDAR



