
BEGIN:VCALENDAR
VERSION:2.0
PRODID:-//MarkedsPartner AS//Umbraco CMS//NO
TIMEZONE-ID:Europe/Oslo
X-WR-TIMEZONE:Europe/Oslo


BEGIN:VEVENT
UID:130d2097ea534ca8bff51fb6e8b4d23c
URL:https://umbraco.naeringsforeningen.no/moeter/arkiv/bygg-og-anleggskolen-101121/
ORGANIZER;CN=Ola Normann:MAILTO:ola.normann@markedspartner.no
DTSTAMP:20211110T070000Z
DTSTART:20211110T070000Z
DTEND:20211110T093000Z
LAST-MODIFIED:20221031T122931Z
SUMMARY:Bygg- og anleggsskolen: Et blikk inn i framtiden
DESCRIPTION:Hvordan vil stadig større krav til bærekraft påvirke oss og muligheten framover? Professor Harald N. Røstvik gir oss et blikk inn i framtidens byggebransje. Vi får også en presentasjon og omvisning i rebuild-prosjektet «Innoasis» – der et gammelt betongbygg forvandles til en fleksibel, miljøvennlig og funksjonell arbeidsplass.
X-ALT-DESC:Hvordan vil stadig st&#248;rre krav til b&#230;rekraft p&#229;virke oss og muligheten framover? Professor Harald N. R&#248;stvik gir oss et blikk inn i framtidens byggebransje. Vi f&#229;r ogs&#229; en presentasjon og omvisning i rebuild-prosjektet &#171;Innoasis&#187; – der et gammelt betongbygg forvandles til en fleksibel, milj&#248;vennlig og funksjonell arbeidsplass.
LOCATION:Smedvig, L&#248;kkeveien 103
END:VEVENT


END:VCALENDAR



