
BEGIN:VCALENDAR
VERSION:2.0
PRODID:-//MarkedsPartner AS//Umbraco CMS//NO
TIMEZONE-ID:Europe/Oslo
X-WR-TIMEZONE:Europe/Oslo


BEGIN:VEVENT
UID:04a815193d1e4f4994ff0d1f1440c154
URL:https://umbraco.naeringsforeningen.no/moeter/arkiv/business-to-business-oeyane_120923/
ORGANIZER;CN=Ola Normann:MAILTO:ola.normann@markedspartner.no
DTSTAMP:20230912T163000Z
DTSTART:20230912T163000Z
DTEND:20230912T190000Z
LAST-MODIFIED:20230912T113337Z
SUMMARY:Business to business for Øyane
DESCRIPTION:Samarbeid skaper utvikling. Derfor inviterer vi deg som har en interesse for næringslivet i Øyane til å møte en blanding av gründere og etablerte bedrifter over bordet.
X-ALT-DESC:Samarbeid skaper utvikling. Derfor inviterer vi deg som har en interesse for n&#230;ringslivet i &#216;yane til &#229; m&#248;te en blanding av gr&#252;ndere og etablerte bedrifter over bordet.
LOCATION:Judaberg innbyggertorg, Finn&#248;y
END:VEVENT


END:VCALENDAR



