
BEGIN:VCALENDAR
VERSION:2.0
PRODID:-//MarkedsPartner AS//Umbraco CMS//NO
TIMEZONE-ID:Europe/Oslo
X-WR-TIMEZONE:Europe/Oslo


BEGIN:VEVENT
UID:789b76119e634550bff52c0ddcc5587b
URL:https://umbraco.naeringsforeningen.no/moeter/arkiv/business-in-houston-and-usa_2023/
ORGANIZER;CN=Ola Normann:MAILTO:ola.normann@markedspartner.no
DTSTAMP:20230323T073000Z
DTSTART:20230323T073000Z
DTEND:20230323T100000Z
LAST-MODIFIED:20230323T201345Z
SUMMARY:Business in Houston and USA
DESCRIPTION:Houston is the energy capital of the United States. The Biden administration has adopted the Inflation Reduction Act to accelerate energy transformation. We will get visitors from Houston, Select USA and AmCham telling us about new opportunities.
X-ALT-DESC:Houston is the energy capital of the United States. The Biden administration has adopted the Inflation Reduction Act to accelerate energy transformation. We will get visitors from Houston, Select USA and AmCham telling us about new opportunities.
LOCATION:Rosenkildehuset, Strandkaien 6, 4005 Stavanger
END:VEVENT


END:VCALENDAR



