
BEGIN:VCALENDAR
VERSION:2.0
PRODID:-//MarkedsPartner AS//Umbraco CMS//NO
TIMEZONE-ID:Europe/Oslo
X-WR-TIMEZONE:Europe/Oslo


BEGIN:VEVENT
UID:e9a3981903fa4313ac9ad01e095c6f24
URL:https://umbraco.naeringsforeningen.no/moeter/arkiv/brussel-moete-for-havbruksnaeringen_2025-1/
ORGANIZER;CN=Ola Normann:MAILTO:ola.normann@markedspartner.no
DTSTAMP:20250423T110000Z
DTSTART:20250423T110000Z
DTEND:20250423T110000Z
LAST-MODIFIED:20250425T134820Z
SUMMARY:Delegasjonsreise til Brussel for Havbruksnæringen
DESCRIPTION:Som representant for regionens havbruksnæring, inviteres du herved til å delta i Stavanger-regionens delegasjon til Brussel. Dette er en gyllen mulighet til å treffe beslutningstakere i EU-hovedstaden, opparbeide seg et internasjonalt nettverk og få ytterligere forståelse for EUs havbrukspolitikk.
X-ALT-DESC:Som representant for regionens havbruksn&#230;ring, inviteres du herved til &#229; delta i Stavanger-regionens delegasjon til Brussel. Dette er en gyllen mulighet til &#229; treffe beslutningstakere i EU-hovedstaden, opparbeide seg et internasjonalt nettverk og f&#229; ytterligere forst&#229;else for EUs havbrukspolitikk.
LOCATION:Rue Archim&#232;de 17, 1000 Brussel
END:VEVENT


END:VCALENDAR



